BEGIN:VCALENDAR
VERSION:2.0
PRODID:-//Hyndburn Borough Council - ECPv6.15.20//NONSGML v1.0//EN
CALSCALE:GREGORIAN
METHOD:PUBLISH
X-WR-CALNAME:Hyndburn Borough Council
X-ORIGINAL-URL:https://www.hyndburnbc.gov.uk
X-WR-CALDESC:Events for Hyndburn Borough Council
REFRESH-INTERVAL;VALUE=DURATION:PT1H
X-Robots-Tag:noindex
X-PUBLISHED-TTL:PT1H
BEGIN:VTIMEZONE
TZID:Europe/London
BEGIN:DAYLIGHT
TZOFFSETFROM:+0000
TZOFFSETTO:+0100
TZNAME:BST
DTSTART:20250330T010000
END:DAYLIGHT
BEGIN:STANDARD
TZOFFSETFROM:+0100
TZOFFSETTO:+0000
TZNAME:GMT
DTSTART:20251026T010000
END:STANDARD
BEGIN:DAYLIGHT
TZOFFSETFROM:+0000
TZOFFSETTO:+0100
TZNAME:BST
DTSTART:20260329T010000
END:DAYLIGHT
BEGIN:STANDARD
TZOFFSETFROM:+0100
TZOFFSETTO:+0000
TZNAME:GMT
DTSTART:20261025T010000
END:STANDARD
BEGIN:DAYLIGHT
TZOFFSETFROM:+0000
TZOFFSETTO:+0100
TZNAME:BST
DTSTART:20270328T010000
END:DAYLIGHT
BEGIN:STANDARD
TZOFFSETFROM:+0100
TZOFFSETTO:+0000
TZNAME:GMT
DTSTART:20271031T010000
END:STANDARD
END:VTIMEZONE
BEGIN:VEVENT
DTSTART;VALUE=DATE:20260307
DTEND;VALUE=DATE:20261227
DTSTAMP:20260419T151733
CREATED:20260309T151947Z
LAST-MODIFIED:20260401T132356Z
UID:65343-1772881200-1798282799@www.hyndburnbc.gov.uk
SUMMARY:Hyndburn parkrun
DESCRIPTION:Every Saturday at 9am\, Free to Take Part \nEvery Saturday at 9am\, meeting at Wilson’s Sports Village (check website for details of any cancellations). https://www.parkrun.org.uk/hyndburn/ \nA free\, fun\, and friendly weekly 5k community event. Walk\, jog\, run\, volunteer or spectate – it’s up to you! \nRegister free here: www.parkrun.org.uk/register \n 
URL:https://www.hyndburnbc.gov.uk/events/hyndburn-parkrun/
LOCATION:Wilson’s Sports Village\, Clayton-le-Moors\, Accrington\, BB5 5SG
CATEGORIES:Workshops and Activities
ATTACH;FMTTYPE=image/jpeg:https://www.hyndburnbc.gov.uk/wp-content/uploads/2026/03/eventhomepagepicture-1.jpg
ORGANIZER;CN="Hyndburn Parkrun":MAILTO:hyndburn@parkrun.com
END:VEVENT
BEGIN:VEVENT
DTSTART;TZID=Europe/London:20260610T093000
DTEND;TZID=Europe/London:20260610T123000
DTSTAMP:20260419T151733
CREATED:20260219T102153Z
LAST-MODIFIED:20260219T102153Z
UID:65092-1781083800-1781094600@www.hyndburnbc.gov.uk
SUMMARY:Lady Boss Coffee Morning
DESCRIPTION:Lady Boss Coffee morning Wednesday 10th June\, 9.30am-12.30pm\, Hyndburn Borough Council\, QE Room\, Scaitcliffe House\, Ormerod St\, Accrington\, BB5 0PF. \nDo you have a passion for cooking and wondered if it could become more than a hobby?\nHyndburn Borough Council are partnering with Kind Communities to support women with cooking skills turn their passion into a viable enterprise.\nThis 6 week course includes understanding UK regulations for catering and food safety training\, pricing structure and legal requirements\, as well as a practical focus on helping to turn culinary abilities into a viable business.\nIf you would like to find out more\, come along to our friendly\, relaxed Lady Boss coffee morning.\nYou will have the opportunity to meet and ask questions to the programme delivery team\, hear from participants who have previously completed this course share their thoughts and experience. Finally to top it all there as will be plenty of coffee and cake on offer too. \nIf you are a Hyndburn resident and would like to book a place please email business@hyndburnbc.gov.uk.
URL:https://www.hyndburnbc.gov.uk/events/lady-boss-coffee-morning/
LOCATION:Hyndburn Borough Council\, Scaitcliffe House\, Accrington\, BB5 0PF
CATEGORIES:Workshops and Activities
END:VEVENT
END:VCALENDAR