BEGIN:VCALENDAR
VERSION:2.0
PRODID:-//Hyndburn Borough Council - ECPv6.15.20//NONSGML v1.0//EN
CALSCALE:GREGORIAN
METHOD:PUBLISH
X-WR-CALNAME:Hyndburn Borough Council
X-ORIGINAL-URL:https://www.hyndburnbc.gov.uk
X-WR-CALDESC:Events for Hyndburn Borough Council
REFRESH-INTERVAL;VALUE=DURATION:PT1H
X-Robots-Tag:noindex
X-PUBLISHED-TTL:PT1H
BEGIN:VTIMEZONE
TZID:Europe/London
BEGIN:DAYLIGHT
TZOFFSETFROM:+0000
TZOFFSETTO:+0100
TZNAME:BST
DTSTART:20250330T010000
END:DAYLIGHT
BEGIN:STANDARD
TZOFFSETFROM:+0100
TZOFFSETTO:+0000
TZNAME:GMT
DTSTART:20251026T010000
END:STANDARD
BEGIN:DAYLIGHT
TZOFFSETFROM:+0000
TZOFFSETTO:+0100
TZNAME:BST
DTSTART:20260329T010000
END:DAYLIGHT
BEGIN:STANDARD
TZOFFSETFROM:+0100
TZOFFSETTO:+0000
TZNAME:GMT
DTSTART:20261025T010000
END:STANDARD
BEGIN:DAYLIGHT
TZOFFSETFROM:+0000
TZOFFSETTO:+0100
TZNAME:BST
DTSTART:20270328T010000
END:DAYLIGHT
BEGIN:STANDARD
TZOFFSETFROM:+0100
TZOFFSETTO:+0000
TZNAME:GMT
DTSTART:20271031T010000
END:STANDARD
END:VTIMEZONE
BEGIN:VEVENT
DTSTART;VALUE=DATE:20260523
DTEND;VALUE=DATE:20260526
DTSTAMP:20260419T165857
CREATED:20260304T094943Z
LAST-MODIFIED:20260227T123523Z
UID:65137-1779534000-1779706799@www.hyndburnbc.gov.uk
SUMMARY:Great Harwood Stock
DESCRIPTION:10am- 9pm each day \nThe ‘Free Music Lessons charity’ are hosting a two-day\, free-to-attend music festival at Mercer Hall; showcasing local schools\, performing arts clubs and emerging independent musicians. \nDaytime programme geared to community families and school groups: workshops\, student performances and industry talks. Evening programme features local and regional bands and solo artists\, performers\, and pop-up stalls from local food businesses. \nMORE INFORMATION TO FOLLOW \n 
URL:https://www.hyndburnbc.gov.uk/events/great-harwood-stock/
LOCATION:Mercer Hall\, Queen Street\, Great Harwood\, Hyndburn\, BB6 7AL
CATEGORIES:Mercer Hall
ATTACH;FMTTYPE=image/png:https://www.hyndburnbc.gov.uk/wp-content/uploads/2025/01/Mercer-Hall-image.png
END:VEVENT
BEGIN:VEVENT
DTSTART;VALUE=DATE:20260522
DTEND;VALUE=DATE:20260524
DTSTAMP:20260419T165857
CREATED:20260304T094907Z
LAST-MODIFIED:20260227T124158Z
UID:65145-1779447600-1779533999@www.hyndburnbc.gov.uk
SUMMARY:Garden Party
DESCRIPTION:1-4pm \nFriday 22nd May \nCommunity garden party hosted by Community Solutions North West. \nWelcoming local residents and Community Solutions participants; the garden party will celebrate Elmfield Hall’s rich heritage\, feature delicious treats from Mr Gatty’s Tearoom and showcase a performance by the Shincracker Swing Dancers. \nMORE INFORMATION TO FOLLOW.
URL:https://www.hyndburnbc.gov.uk/events/garden-party/
LOCATION:Gatty Park\, Hyndburn Road\, Accrington\, BB5 4AE
ATTACH;FMTTYPE=image/jpeg:https://www.hyndburnbc.gov.uk/wp-content/uploads/2025/03/Elmfield-Hall.jpg
END:VEVENT
BEGIN:VEVENT
DTSTART;TZID=Europe/London:20260512T173000
DTEND;TZID=Europe/London:20260512T203000
DTSTAMP:20260419T165857
CREATED:20260219T101452Z
LAST-MODIFIED:20260219T101452Z
UID:65088-1778607000-1778617800@www.hyndburnbc.gov.uk
SUMMARY:Funding & Financial Planning for Your Startup
DESCRIPTION:Funding & Financial Planning for Your Startup- -Tuesday 12th May 5.30pm-8.30pm \nVenue: Mercure Blackburn Dunkenhalgh Hotel & Spa\, Blackburn Road\, Clayton Le Moors\, BB5 5JP. \nStarting a business is exciting\, but let’s be real – funding & finances can make or break your success. This final workshop is all about getting your money right so you can launch and thrive. \n* Funding Sources Figure out exactly how much you need to get started and explore the best options to cover your costs From personal savings to investors\, grants and crowdfunding. \n* Financial Plan Learn how to budget like a boss\, manage income\, control costs\, and forecast your revenue so your business stays profitable\, not stressful. \n* Keeping on Track Stay organised with record-keeping hacks\, business bank accounts\, bookkeeping tips\, and game-changing software that simplifies the numbers. \nBook your place by emailing business@hyndburnbc.gov.uk
URL:https://www.hyndburnbc.gov.uk/events/funding-financial-planning-for-your-startup/
LOCATION:Mercure Blackburn Dunkenhalgh Hotel\, Blackburn Road\, Clayton Le Moors\, BB5 5JP\, United Kingdom
CATEGORIES:Workshops and Activities
ATTACH;FMTTYPE=image/jpeg:https://www.hyndburnbc.gov.uk/wp-content/uploads/2026/02/images.jpg
END:VEVENT
BEGIN:VEVENT
DTSTART;TZID=Europe/London:20260505T173000
DTEND;TZID=Europe/London:20260505T203000
DTSTAMP:20260419T165857
CREATED:20260219T100734Z
LAST-MODIFIED:20260219T100734Z
UID:65084-1778002200-1778013000@www.hyndburnbc.gov.uk
SUMMARY:Marketing & Sales Essentials for Your Start up
DESCRIPTION:Marketing & Sales Essentials for Your Start up – Tuesday May 5th – 5.30pm-8.30pm \nVenue: Mercure Blackburn Dunkenhalgh Hotel & Spa\, Blackburn Road\, Clayton Le Moors\, BB5 5JP. \nFind Your People Define your Customer Persona so you know exactly who you’re selling to and what they need. \nKnow Your Market Understand your industry\, competitors and trends with smart Market Research. \nSell Like a Pro Craft a Marketing & Sales Strategy that keeps customers coming back. \nExplore the best routes to market and figure out which social media platforms will help your brand shine. \nBook your place by emailing business@hyndburnbc.gov.uk
URL:https://www.hyndburnbc.gov.uk/events/marketing-sales-essentials-for-your-start-up/
LOCATION:Mercure Blackburn Dunkenhalgh Hotel\, Blackburn Road\, Clayton Le Moors\, BB5 5JP\, United Kingdom
CATEGORIES:Workshops and Activities
END:VEVENT
BEGIN:VEVENT
DTSTART;TZID=Europe/London:20260428T173000
DTEND;TZID=Europe/London:20260428T203000
DTSTAMP:20260419T165857
CREATED:20260219T095732Z
LAST-MODIFIED:20260219T095732Z
UID:65073-1777397400-1777408200@www.hyndburnbc.gov.uk
SUMMARY:Starting a Business in Hyndburn
DESCRIPTION:Unlocking Your Vision & Offer – Tuesday 28th April 5.30pm 8.30pm \nVenue: Mercure Blackburn Dunkenhalgh Hotel & Spa\, Blackburn Road\, Clayton Le Moors\, BB5 5JP. \nYour Vision – This is where your idea takes shape. \n* Purpose & Mission What’s the big idea? What impact do you want to make? \n* Core Values The non-negotiables that define how your business operates. \n* Long-term Goals Where do you see yourself in 3\, 5\, or 10 years? \n* Competitive Advantage What sets you apart and impossible to ignore? \nYour Offer – Time to craft a killer product or service that speaks to your audience. \n* Products/Services Define what you’re bringing to the table and how it solves a problem. \n* Unique Selling Proposition (USP) Why should customers pick you over the competition? \n* Pricing Strategy Find the sweet spot where value meets demand. \nBook your place by emailing business@hyndburnbc.gov.uk
URL:https://www.hyndburnbc.gov.uk/events/starting-a-business-in-hyndburn/
LOCATION:Mercure Blackburn Dunkenhalgh Hotel\, Blackburn Road\, Clayton Le Moors\, BB5 5JP\, United Kingdom
CATEGORIES:Workshops and Activities
ATTACH;FMTTYPE=image/jpeg:https://www.hyndburnbc.gov.uk/wp-content/uploads/2026/02/start-a-business.jpg
END:VEVENT
BEGIN:VEVENT
DTSTART;TZID=Europe/London:20260405T123000
DTEND;TZID=Europe/London:20260405T123000
DTSTAMP:20260419T165857
CREATED:20260325T144243Z
LAST-MODIFIED:20260325T145004Z
UID:65621-1775392200-1775392200@www.hyndburnbc.gov.uk
SUMMARY:Accrington Live - Free Music Festival
DESCRIPTION:Accrington is set for a full day of live music and entertainment this Easter Sunday\, as the Tiger Lounge car park is transformed into a mini festival space for Accrington Live. \nThis free community event will bring together local residents\, families\, and music lovers for a day of performances\, food\, and great atmosphere. \nWhat to Expect\n\nLive bands and performers throughout the day\nStreet food and refreshments\nFully stocked bars\nMarquees and chill‑out areas\nA main event stage with entertainment from start to finish\n\nAccrington Live is about more than music — it’s a chance to bring the community together\, celebrate local talent\, and enjoy a vibrant day out in the heart of the town. \nThis event is proudly sponsored by Hyndburn Borough Council \nJoin Us\nBring your friends\, bring your family\, and be part of a brilliant day of music and community spirit. \nLet’s make memories — and make Accrington proud.
URL:https://www.hyndburnbc.gov.uk/events/accrington-live-free-music-festival/
LOCATION:Tiger Lounge Accrington\, 117 – 119 Abbey Street\, Accrington\, BB5 1EH\, United Kingdom
CATEGORIES:Culture and Heritage Funded
ATTACH;FMTTYPE=image/jpeg:https://www.hyndburnbc.gov.uk/wp-content/uploads/2026/03/653714898_122106238839278170_5451307903767575160_n.jpg
END:VEVENT
BEGIN:VEVENT
DTSTART;VALUE=DATE:20260330
DTEND;VALUE=DATE:20260412
DTSTAMP:20260419T165857
CREATED:20260220T123556Z
LAST-MODIFIED:20260220T122921Z
UID:65105-1774868400-1775905199@www.hyndburnbc.gov.uk
SUMMARY:Easter trail in the park
DESCRIPTION:10am- 3pm \nMonday 30th March–Thursday 2nd April \nTuesday 7th April–Friday 10th April \nJoin Community Solutions North West for their annual Easter Trail in Gatty Park from Monday 30th March–Thursday 2nd April and Tuesday 7th April–Friday 10th April. \nPick up your entry form from Elmfield Hall reception\, it’s just £1 per child\, find the 10 clues\, complete the answer\, and claim your prize!
URL:https://www.hyndburnbc.gov.uk/events/easter-trail-in-the-park/
LOCATION:Gatty Park\, Hyndburn Road\, Accrington\, BB5 4AE
CATEGORIES:Parks
ATTACH;FMTTYPE=image/png:https://www.hyndburnbc.gov.uk/wp-content/uploads/2026/02/Easter-for-HBC.png
END:VEVENT
BEGIN:VEVENT
DTSTART;TZID=Europe/London:20260328T090000
DTEND;TZID=Europe/London:20260411T160000
DTSTAMP:20260419T165857
CREATED:20260327T152112Z
LAST-MODIFIED:20260327T152112Z
UID:65674-1774688400-1775923200@www.hyndburnbc.gov.uk
SUMMARY:Accrington Market Easter Trail
DESCRIPTION:Join us for a special Easter Trail in Accrington town square\, running from Saturday 28 March to Saturday 11 April. Organised by Hyndburn Borough Council\, this family‑friendly event invites children under 12 and their families to explore the fantastic range of local traders based in the market cabins. \nChildren will receive a competition booklet—distributed through local schools—and can begin the hunt by visiting 15 participating market stalls\, including Bramwells\, Pet Mart\, Medina Mobile\, Bubble Star\, Frances Perfumes and Sunglasses\, Arthur Banks Tool Stall\, E.A. Electrical T/A Fancy Goods\, Illusion Ladies Wear\, Essentials\, Jass Workwear\, Hoskin’s Cheese\, Jass Jeans\, Accrington Mobility and Furniture\, Angie’s Happy Cluckers and Smiths Fresh Produce. \nEach stall will have a unique stamp featuring a letter. Once all 15 letters are collected\, plus a hidden letter displayed on the Accrington DOME window\, participants must solve a fun Easter‑themed anagram. Completed booklets can then be posted into the entry boxes at any participating stall. \n200 free Easter eggs will be given out on a first‑come\, first‑served basis\, and there are exciting prizes to be won\, including a giant Easter bunny\, a giant chocolate egg\, and #ShopLocal cash prizes. \nThe trail also highlights the brilliant selection of products and fresh local produce available at the Accrington Market cabins\, which remain open while the Market Hall undergoes renovation. \nThe celebrations continue on Easter Saturday (4 April) with two free funfair rides for children under 12\, available from 10am to 2pm in the town square. Families are encouraged to enjoy the rides\, take part in the trail\, and support local traders throughout the Easter period.
URL:https://www.hyndburnbc.gov.uk/events/accrington-market-easter-trail/
LOCATION:Accrington Town Square
CATEGORIES:Accrington Town Square
ATTACH;FMTTYPE=image/jpeg:https://www.hyndburnbc.gov.uk/wp-content/uploads/2026/03/ACCRINGTON-MARKET-HOPS-INTO-EASTER-WITH-FREE-SHOPLOCAL-TRAIL-FAIRGROUND-RIDES-AND-EASTER-BONNET-MAKING-WORKSHOPS19.jpeg
END:VEVENT
BEGIN:VEVENT
DTSTART;TZID=Europe/London:20260326T100000
DTEND;TZID=Europe/London:20260326T130000
DTSTAMP:20260419T165857
CREATED:20260219T095458Z
LAST-MODIFIED:20260219T095458Z
UID:65054-1774519200-1774530000@www.hyndburnbc.gov.uk
SUMMARY:Create Local Go Global
DESCRIPTION:Create Local Go Global – Tuesday 26th March 10.00am-1.00pm\, Accrington Stanley FC\, 1968 Lounge\, Livingstone Road\, Accrington\, BB5 5BX. \nA free half-day event for Hyndburn’s creatives and makers who are ready to grow…. hear directly from successful Lancashire entrepreneurs who started locally and went on to build global recognition.\nOur key note speaker will be local comedian Tez Ilyas\, one of the most celebrated British stars in British comedy. Alongside a fantastic list of panellists which include Wayne Hemmingway MBE\, Jamie Holman\, Zara Saghir and Zara Neild.\nWe’ll be exploring: \n* Getting beyond your postcode and how to take your creative work further\n* Why owning your story matters\, using your voice\, culture and authenticity to stand out\n* What works (and what doesn’t) on social media\n* How to embrace AI without losing your identity\, and what impact will AI have on the creative sector.\nIt’s happening in the beautifully refurbished 1968 Lounge at Accrington Stanley and isn’t just a ‘sit-and-watch’ event – you’ll leave with a goody bag\, designed by students from East Lancashire Learning Group\, as well as practical tips you can use straight away\, fresh ideas\, and the chance to chat and network with other like-minded creatives. \nBook your place by emailing business@hyndburnbc.gov.uk\nLimited spaces\, book early.
URL:https://www.hyndburnbc.gov.uk/events/create-local-go-global/
LOCATION:Accrington Stanley\, Livingstone Road\, Accrington\, Lancashire\, BB5 5BX\, United Kingdom
CATEGORIES:Workshops and Activities
ATTACH;FMTTYPE=image/webp:https://www.hyndburnbc.gov.uk/wp-content/uploads/2026/02/go-international.webp
END:VEVENT
BEGIN:VEVENT
DTSTART;VALUE=DATE:20260314
DTEND;VALUE=DATE:20260316
DTSTAMP:20260419T165857
CREATED:20251119T101149Z
LAST-MODIFIED:20251113T123517Z
UID:64481-1773486000-1773572399@www.hyndburnbc.gov.uk
SUMMARY:Nature Writing for Wellbeing Workshop
DESCRIPTION:Saturday 14th March 2026\, 1pm – 3:30pm: Free creative workshop for adults \nJoin Lancashire-based writer\, Janelle Hardacre\, for a gentle afternoon of mindful writing exercises inspired by the natural world. \nNo prior writing experience is necessary and all adults are welcome. Please come as you are! \nIn the workshop\, you will experience the wellbeing benefits of expressive writing and nature connection. \nThe activities will encourage curiosity and playfulness. The workshop is not about completing stories\, poems or essays to be shared – but getting our creative juices flowing. \nLocation: Haworth Art Gallery\, Hollins Ln\, Accrington BB5 2JS \nSet in beautiful gardens and grounds\, our location will help to inspire some of our writing prompts. \nThese workshops are kindly funded by Hyndburn Borough Council’s Culture and Heritage Grants.  \nFor more information about Janelle Hardacre and her online membership Nature Writing Club\, please visit naturewritingclub.substack.com/ \n  \nBook your place at: https://www.tickettailor.com/events/hardacrecreative/1941308
URL:https://www.hyndburnbc.gov.uk/events/nature-writing-for-wellbeing-workshop-3/
LOCATION:Haworth Art Gallery\, Hollins Ln\, Accrington\, Lancashire\, BB5 2JS\, United Kingdom
CATEGORIES:Haworth Art Gallery
ATTACH;FMTTYPE=image/jpeg:https://www.hyndburnbc.gov.uk/wp-content/uploads/2025/11/1.jpg
ORGANIZER;CN="Janelle Hardacre":MAILTO:janelle.hardacre@outlook.com
END:VEVENT
BEGIN:VEVENT
DTSTART;VALUE=DATE:20260221
DTEND;VALUE=DATE:20260223
DTSTAMP:20260419T165857
CREATED:20251119T101122Z
LAST-MODIFIED:20251113T123248Z
UID:64479-1771671600-1771757999@www.hyndburnbc.gov.uk
SUMMARY:Nature Writing for Wellbeing Workshop
DESCRIPTION:Saturday 21st February 2026\, 1pm – 3:30pm: Free creative workshop for adults \nJoin Lancashire-based writer\, Janelle Hardacre\, for a gentle afternoon of mindful writing exercises inspired by the natural world. \nNo prior writing experience is necessary and all adults are welcome. Please come as you are! \nIn the workshop\, you will experience the wellbeing benefits of expressive writing and nature connection. \nThe activities will encourage curiosity and playfulness. The workshop is not about completing stories\, poems or essays to be shared – but getting our creative juices flowing. \nLocation: Haworth Art Gallery\, Hollins Ln\, Accrington BB5 2JS \nSet in beautiful gardens and grounds\, our location will help to inspire some of our writing prompts. \nThese workshops are kindly funded by Hyndburn Borough Council’s Culture and Heritage Grants.  \nFor more information about Janelle Hardacre and her online membership Nature Writing Club\, please visit naturewritingclub.substack.com/ \n  \nBook your place at: https://www.tickettailor.com/events/hardacrecreative/1941307
URL:https://www.hyndburnbc.gov.uk/events/nature-writing-for-wellbeing-workshop-2/
LOCATION:Haworth Art Gallery\, Hollins Ln\, Accrington\, Lancashire\, BB5 2JS\, United Kingdom
CATEGORIES:Haworth Art Gallery
ATTACH;FMTTYPE=image/jpeg:https://www.hyndburnbc.gov.uk/wp-content/uploads/2025/11/1.jpg
ORGANIZER;CN="Janelle Hardacre":MAILTO:janelle.hardacre@outlook.com
END:VEVENT
BEGIN:VEVENT
DTSTART;TZID=Europe/London:20260212T093000
DTEND;TZID=Europe/London:20260212T123000
DTSTAMP:20260419T165857
CREATED:20250716T081913Z
LAST-MODIFIED:20250715T154256Z
UID:63444-1770888600-1770899400@www.hyndburnbc.gov.uk
SUMMARY:Business Growth Workshop 3 - Agentic AI
DESCRIPTION:Session Bio: \nThis advanced half-day workshop dives into the emerging Agentic Layer of AI — where intelligent agents act autonomously to drive outcomes. We’ll explore multi-agent frameworks\, decision chains\, and how this new paradigm transforms operations\, workflows\, and digital service delivery. Attendees will leave with a practical understanding of how agentic systems can be designed\, governed\, and applied securely in real-world environments. \nThis session shows you how to really embed the agentic layer into your organisation. \n  \nIn order to book on the above\, please email business@hyndburnbc.gov.uk
URL:https://www.hyndburnbc.gov.uk/events/business-growth-workshop-3-agentic-ai/
LOCATION:Accrington Stanley Community Trust\, Thorneyholme Rd\,\, Accrington\, BB5 6BD\, United Kingdom
END:VEVENT
BEGIN:VEVENT
DTSTART;TZID=Europe/London:20260205T093000
DTEND;TZID=Europe/London:20260205T123000
DTSTAMP:20260419T165857
CREATED:20250716T081842Z
LAST-MODIFIED:20250716T142247Z
UID:63352-1770283800-1770294600@www.hyndburnbc.gov.uk
SUMMARY:Business Growth HR Essentials - Workshops 1 and 2 - Employment Rights Bill\, Managing Sickness Absence and Managing a Probationary Period
DESCRIPTION:TOPIC 1 : MANAGING SICKNESS ABSENCE  \nPreparing for Day-One Statutory Sick Pay Rights  \nThe Employment Rights Bill introduces transformative changes to Statutory Sick Pay\, with implementation expected from 2026. This session will provide comprehensive guidance on: \nKey Legislative Changes:  \n\nElimination of Waiting Days: SSP will be paid from day one of sickness absence\, removing the current three-day waiting period\nExtended Eligibility: SSP will be available to employees earning below the Lower Earnings Limit (currently £123 per week)\nPercentage-Based Payments: For lower earners\, SSP will be calculated as a percentage of weekly earnings (likely 60-80% following consultation)\n\n  \nPractical Implementation Strategies:  \n\nReviewing and updating sickness absence policies\nPayroll system adjustments and administrative processes\nCost implications – government estimates suggest costs will rise from 0.06% to 0.09% of total annual wage spending\nManaging potential increases in short-term absence patterns\nReturn-to-work procedures and capability management\nDocumentation and record-keeping requirements\n\n  \nRisk Management Framework:  \n\nIdentifying vulnerable employee groups\nBalancing compassionate management with operational needs\nEarly intervention strategies\nIntegration with occupational health services\n\n  \nTOPIC TWO: MANAGING PROBATIONARY PERIODS  \nEnhanced Employment Rights and the New Framework  \nThe Employment Rights Bill removes the two-year qualifying period for unfair dismissal protection\, introducing day-one rights with a proposed statutory probationary period of nine months. This session will address: \nLegislative Framework Changes:  \n\nDay-One Unfair Dismissal Rights: All employees will have protection from unfair dismissal from their first day of employment\nStatutory Probationary Period: A “lighter touch” dismissal process during the initial employment period\, with government preference for nine months\nTimeline for Implementation: These changes will not come into effect before autumn 2026\n\n  \nStrategic Probationary Management:  \n\nDesigning robust probationary procedures within the new framework\nPerformance management protocols including mandatory meetings with employees to explain concerns\nDocumentation standards and evidence requirements\nRight to accompaniment by trade union representatives or colleagues\nFair dismissal procedures during probationary periods\nIntegration with existing HR policies and procedures\n\n  \nRecruitment and Retention Implications:  \n\nAdapting recruitment practices to address potential hiring caution\nEnsuring inclusive practices whilst managing enhanced protections\nStrengthening probationary practices in anticipation of enhanced unfair dismissal protections\nPerformance monitoring and feedback mechanisms\nTraining requirements for line managers\n\n  \nIn order to book on the above\, please email business@hyndburnbc.gov.uk
URL:https://www.hyndburnbc.gov.uk/events/business-growth-workshops-1-and-2-managing-sickness-absence/
LOCATION:Accrington Stanley Community Trust\, Thorneyholme Rd\,\, Accrington\, BB5 6BD\, United Kingdom
END:VEVENT
END:VCALENDAR