BEGIN:VCALENDAR
VERSION:2.0
PRODID:-//Hyndburn Borough Council - ECPv6.15.20//NONSGML v1.0//EN
CALSCALE:GREGORIAN
METHOD:PUBLISH
X-WR-CALNAME:Hyndburn Borough Council
X-ORIGINAL-URL:https://www.hyndburnbc.gov.uk
X-WR-CALDESC:Events for Hyndburn Borough Council
REFRESH-INTERVAL;VALUE=DURATION:PT1H
X-Robots-Tag:noindex
X-PUBLISHED-TTL:PT1H
BEGIN:VTIMEZONE
TZID:Europe/London
BEGIN:DAYLIGHT
TZOFFSETFROM:+0000
TZOFFSETTO:+0100
TZNAME:BST
DTSTART:20250330T010000
END:DAYLIGHT
BEGIN:STANDARD
TZOFFSETFROM:+0100
TZOFFSETTO:+0000
TZNAME:GMT
DTSTART:20251026T010000
END:STANDARD
BEGIN:DAYLIGHT
TZOFFSETFROM:+0000
TZOFFSETTO:+0100
TZNAME:BST
DTSTART:20260329T010000
END:DAYLIGHT
BEGIN:STANDARD
TZOFFSETFROM:+0100
TZOFFSETTO:+0000
TZNAME:GMT
DTSTART:20261025T010000
END:STANDARD
BEGIN:DAYLIGHT
TZOFFSETFROM:+0000
TZOFFSETTO:+0100
TZNAME:BST
DTSTART:20270328T010000
END:DAYLIGHT
BEGIN:STANDARD
TZOFFSETFROM:+0100
TZOFFSETTO:+0000
TZNAME:GMT
DTSTART:20271031T010000
END:STANDARD
END:VTIMEZONE
BEGIN:VEVENT
DTSTART;VALUE=DATE:20261127
DTEND;VALUE=DATE:20261129
DTSTAMP:20260419T183121
CREATED:20260304T134640Z
LAST-MODIFIED:20260304T105632Z
UID:65248-1795777200-1795863599@www.hyndburnbc.gov.uk
SUMMARY:Lancashire Day
DESCRIPTION:Celebrate Lancashire! \nGreat Harwood Civic Society will be hosting their annual celebrations to mark Lancashire Day on Friday 27th November at Churchfield House. \nWatch the Town Crier toast the monarch\, the Duke of Lancaster\, and then tuck in to some traditional Lancashire Fare. Dignitaries and locals are invited to attend along with the various voluntary\, community and faith groups in the locality.
URL:https://www.hyndburnbc.gov.uk/events/lancashire-day/
LOCATION:Churchfield House\, Church Street\, Great Harwood\, BB6 7RE
ATTACH;FMTTYPE=image/jpeg:https://www.hyndburnbc.gov.uk/wp-content/uploads/2019/07/churchfield-har-3.jpg
END:VEVENT
BEGIN:VEVENT
DTSTART;VALUE=DATE:20261212
DTEND;VALUE=DATE:20261214
DTSTAMP:20260419T183121
CREATED:20260304T134745Z
LAST-MODIFIED:20260304T112726Z
UID:65259-1797073200-1797159599@www.hyndburnbc.gov.uk
SUMMARY:Great Harwood Winter extravaganza
DESCRIPTION:Great Harwood’s Winter Extravaganza is back for a third year\, on Saturday 12th December!\n\n\nA day of non-stop\, free entertainment\, featuring funfair rides\, food and drink stalls\, festive workshops\, Santa’s grotto\, stalls & crafts and a main stage packed with music and entertainment.\n\n\n\n\n\nCome and join Amazing Accrington for a magical Christmas Extravaganza!\n\n\n\n\n\n\n\n\nNew for 2026 will be an ‘Elf Trail’\, a new seating area under the main event gazebo and also a brand new competition giving you the chance to nominate and vote for a “local champion” who will push the plunger after the big Christmas countdown – to nominate your “local hero” please email editor@amazingaccrington.co.uk explaining who you are nominating and why\n\n\n\n\n\n\n\n\n\n\nWith Blondied wowing the crowds last year and East 17 in 2024\, who will be the headline act this December….!?
URL:https://www.hyndburnbc.gov.uk/events/great-harwood-winter-extravaganza-2/
LOCATION:Queen Street\, Queen Street\, Great Harwood\, BB6 7AL
ATTACH;FMTTYPE=image/jpeg:https://www.hyndburnbc.gov.uk/wp-content/uploads/2025/03/Great-Harwood-Winter-2024.jpg
END:VEVENT
END:VCALENDAR